BEGIN:VCALENDAR
VERSION:2.0
PRODID:icalendar-ruby
CALSCALE:GREGORIAN
METHOD:PUBLISH
BEGIN:VEVENT
DTSTAMP:20260423T004809Z
UID:8-1207387@shalomhill.com
DTSTART:20261101T160000Z
DTEND:20261101T180000Z
CLASS:PUBLIC
CREATED:20260422T181307
DESCRIPTION:
LAST-MODIFIED:20260422T181307
LOCATION:
SUMMARY:Sunday Morning Service 
URL;VALUE=URI:https://www.shalomhill.com/events/sunday-morning-service/2026
 -11-01
ATTACH;FILENAME=sbTq.jpg;FMTTYPE=image/jpeg:https://dq5pwpg1q8ru0.cloudfron
 t.net/2022/07/12/18/10/37/cdf4c3ce-52b9-48e5-9cdd-4ca6ae7c7926/sbTq.jpg
END:VEVENT
END:VCALENDAR
